BEGIN:VCALENDAR
VERSION:2.0
PRODID:-//Harbour Point - ECPv6.15.20//NONSGML v1.0//EN
CALSCALE:GREGORIAN
METHOD:PUBLISH
X-ORIGINAL-URL:https://harbourpointcoa.net
X-WR-CALDESC:Events for Harbour Point
REFRESH-INTERVAL;VALUE=DURATION:PT1H
X-Robots-Tag:noindex
X-PUBLISHED-TTL:PT1H
BEGIN:VTIMEZONE
TZID:UTC
BEGIN:STANDARD
TZOFFSETFROM:+0000
TZOFFSETTO:+0000
TZNAME:UTC
DTSTART:20210101T000000
END:STANDARD
END:VTIMEZONE
BEGIN:VEVENT
DTSTART;TZID=UTC:20230910T130000
DTEND;TZID=UTC:20230910T160000
DTSTAMP:20260422T095244
CREATED:20230827T111935Z
LAST-MODIFIED:20230827T111935Z
UID:5445-1694350800-1694361600@harbourpointcoa.net
SUMMARY:Cookout
DESCRIPTION:
URL:https://harbourpointcoa.net/event/cookout/
LOCATION:Harbour Point Pool House Area\, Harbour Point\, Virginia Beach\, VA\, 23451\, United States
END:VEVENT
BEGIN:VEVENT
DTSTART;TZID=UTC:20230828T180000
DTEND;TZID=UTC:20230828T200000
DTSTAMP:20260422T095244
CREATED:20230721T175307Z
LAST-MODIFIED:20230721T175307Z
UID:5414-1693245600-1693252800@harbourpointcoa.net
SUMMARY:Board of Directors Meeting
DESCRIPTION:
URL:https://harbourpointcoa.net/event/board-of-directors-meeting-76/
LOCATION:Harbour Point Pool House Area\, Harbour Point\, Virginia Beach\, VA\, 23451\, United States
END:VEVENT
BEGIN:VEVENT
DTSTART;TZID=UTC:20230801T190000
DTEND;TZID=UTC:20230801T220000
DTSTAMP:20260422T095244
CREATED:20230723T193338Z
LAST-MODIFIED:20230728T172722Z
UID:5421-1690916400-1690927200@harbourpointcoa.net
SUMMARY:Sturgeon Full Moon Party
DESCRIPTION:
URL:https://harbourpointcoa.net/event/sturgeon-full-moon-party/
LOCATION:Harbour Point Pool House Area\, Harbour Point\, Virginia Beach\, VA\, 23451\, United States
END:VEVENT
BEGIN:VEVENT
DTSTART;TZID=UTC:20230725T190000
DTEND;TZID=UTC:20230725T210000
DTSTAMP:20260422T095244
CREATED:20230723T193238Z
LAST-MODIFIED:20230723T193238Z
UID:5419-1690311600-1690318800@harbourpointcoa.net
SUMMARY:Naked Ladies Swap Party
DESCRIPTION:
URL:https://harbourpointcoa.net/event/naked-ladies-swap-party/
LOCATION:Harbour Point Pool House Area\, Harbour Point\, Virginia Beach\, VA\, 23451\, United States
END:VEVENT
BEGIN:VEVENT
DTSTART;TZID=UTC:20230724T180000
DTEND;TZID=UTC:20230724T200000
DTSTAMP:20260422T095244
CREATED:20230711T142002Z
LAST-MODIFIED:20230711T142002Z
UID:5392-1690221600-1690228800@harbourpointcoa.net
SUMMARY:Board of Directors Meeting
DESCRIPTION:
URL:https://harbourpointcoa.net/event/board-of-directors-meeting-72/
LOCATION:Harbour Point Pool House Area\, Harbour Point\, Virginia Beach\, VA\, 23451\, United States
END:VEVENT
BEGIN:VEVENT
DTSTART;TZID=UTC:20230626T180000
DTEND;TZID=UTC:20230626T200000
DTSTAMP:20260422T095244
CREATED:20230203T195510Z
LAST-MODIFIED:20230203T195510Z
UID:5304-1687802400-1687809600@harbourpointcoa.net
SUMMARY:Board of Directors Meeting
DESCRIPTION:
URL:https://harbourpointcoa.net/event/board-of-directors-meeting-75/
LOCATION:VA
END:VEVENT
BEGIN:VEVENT
DTSTART;TZID=UTC:20230528T170000
DTEND;TZID=UTC:20230528T190000
DTSTAMP:20260422T095244
CREATED:20230501T145451Z
LAST-MODIFIED:20230501T145451Z
UID:5357-1685293200-1685300400@harbourpointcoa.net
SUMMARY:Memorial Day BBQ
DESCRIPTION:
URL:https://harbourpointcoa.net/event/memorial-day-bbq/
LOCATION:Harbour Point Pool House Area\, Harbour Point\, Virginia Beach\, VA\, 23451\, United States
END:VEVENT
BEGIN:VEVENT
DTSTART;TZID=UTC:20230522T180000
DTEND;TZID=UTC:20230522T200000
DTSTAMP:20260422T095244
CREATED:20230203T195413Z
LAST-MODIFIED:20230501T145230Z
UID:5302-1684778400-1684785600@harbourpointcoa.net
SUMMARY:Board of Directors Meeting
DESCRIPTION:
URL:https://harbourpointcoa.net/event/board-of-directors-meeting-74/
LOCATION:Harbour Point Pool House Area\, Harbour Point\, Virginia Beach\, VA\, 23451\, United States
END:VEVENT
BEGIN:VEVENT
DTSTART;TZID=UTC:20230429T100000
DTEND;TZID=UTC:20230429T120000
DTSTAMP:20260422T095244
CREATED:20230320T103630Z
LAST-MODIFIED:20230401T133346Z
UID:5338-1682762400-1682769600@harbourpointcoa.net
SUMMARY:Annual Meeting
DESCRIPTION:
URL:https://harbourpointcoa.net/event/annual-meeting-4/
LOCATION:Harbour Point Pool House Area\, Harbour Point\, Virginia Beach\, VA\, 23451\, United States
END:VEVENT
BEGIN:VEVENT
DTSTART;TZID=UTC:20230424T180000
DTEND;TZID=UTC:20230424T200000
DTSTAMP:20260422T095244
CREATED:20230203T195319Z
LAST-MODIFIED:20230203T195319Z
UID:5300-1682359200-1682366400@harbourpointcoa.net
SUMMARY:Board of Directors Meeting
DESCRIPTION:
URL:https://harbourpointcoa.net/event/board-of-directors-meeting-73/
LOCATION:VA
END:VEVENT
BEGIN:VEVENT
DTSTART;TZID=UTC:20230228T180000
DTEND;TZID=UTC:20230228T200000
DTSTAMP:20260422T095244
CREATED:20230203T195132Z
LAST-MODIFIED:20230223T134158Z
UID:5296-1677607200-1677614400@harbourpointcoa.net
SUMMARY:Board of Directors Meeting
DESCRIPTION:
URL:https://harbourpointcoa.net/event/board-of-directors-meeting-71/
LOCATION:Virginia Beach Beach Rescue Squad Building\, 740 17th Street\, Virginia Beach\, VA\, 23451\, United States
END:VEVENT
BEGIN:VEVENT
DTSTART;TZID=UTC:20230209T173000
DTEND;TZID=UTC:20230209T193000
DTSTAMP:20260422T095244
CREATED:20230206T201716Z
LAST-MODIFIED:20230206T201716Z
UID:5311-1675963800-1675971000@harbourpointcoa.net
SUMMARY:Neighbors Outing at Rockerfellers
DESCRIPTION:
URL:https://harbourpointcoa.net/event/neighbors-outing-at-rockerfellers/
LOCATION:VA
END:VEVENT
BEGIN:VEVENT
DTSTART;TZID=UTC:20230123T180000
DTEND;TZID=UTC:20230123T200000
DTSTAMP:20260422T095244
CREATED:20221231T184713Z
LAST-MODIFIED:20221231T184713Z
UID:5274-1674496800-1674504000@harbourpointcoa.net
SUMMARY:Board of Directors Meeting
DESCRIPTION:
URL:https://harbourpointcoa.net/event/board-of-directors-meeting-70/
LOCATION:Virginia Beach Beach Rescue Squad Building\, 740 17th Street\, Virginia Beach\, VA\, 23451\, United States
END:VEVENT
BEGIN:VEVENT
DTSTART;TZID=UTC:20221219T170000
DTEND;TZID=UTC:20221219T200000
DTSTAMP:20260422T095244
CREATED:20221113T105557Z
LAST-MODIFIED:20221216T151625Z
UID:5228-1671469200-1671480000@harbourpointcoa.net
SUMMARY:Board of Directors Meeting
DESCRIPTION:
URL:https://harbourpointcoa.net/event/board-of-directors-meeting-t/
LOCATION:Virginia Beach Beach Rescue Squad Building\, 740 17th Street\, Virginia Beach\, VA\, 23451\, United States
END:VEVENT
BEGIN:VEVENT
DTSTART;TZID=UTC:20221218T170000
DTEND;TZID=UTC:20221218T190000
DTSTAMP:20260422T095244
CREATED:20221201T194928Z
LAST-MODIFIED:20221201T194928Z
UID:5246-1671382800-1671390000@harbourpointcoa.net
SUMMARY:Holiday Caroling
DESCRIPTION:
URL:https://harbourpointcoa.net/event/holiday-caroling/
LOCATION:VA
END:VEVENT
BEGIN:VEVENT
DTSTART;TZID=UTC:20221204T120000
DTEND;TZID=UTC:20221204T140000
DTSTAMP:20260422T095244
CREATED:20221201T195550Z
LAST-MODIFIED:20221201T195550Z
UID:5250-1670155200-1670162400@harbourpointcoa.net
SUMMARY:Favorite Things Gift Exchange
DESCRIPTION:
URL:https://harbourpointcoa.net/event/favorite-things-gift-exchange/
LOCATION:Mahi’s Restaurant\, 615 Atlantic Avenue\, Virginia Beach\, VA\, 23451\, United States
END:VEVENT
BEGIN:VEVENT
DTSTART;TZID=UTC:20221128T180000
DTEND;TZID=UTC:20221128T200000
DTSTAMP:20260422T095244
CREATED:20220624T170103Z
LAST-MODIFIED:20220624T170103Z
UID:5060-1669658400-1669665600@harbourpointcoa.net
SUMMARY:Board of Directors Meeting
DESCRIPTION:
URL:https://harbourpointcoa.net/event/board-of-directors-meeting-69/
LOCATION:VA
END:VEVENT
BEGIN:VEVENT
DTSTART;TZID=UTC:20221112T100000
DTEND;TZID=UTC:20221112T120000
DTSTAMP:20260422T095244
CREATED:20221006T143810Z
LAST-MODIFIED:20221110T202403Z
UID:5164-1668247200-1668254400@harbourpointcoa.net
SUMMARY:Annual General Meeting
DESCRIPTION:
URL:https://harbourpointcoa.net/event/annual-general-meeting-3/
LOCATION:Virginia Beach Beach Rescue Squad Building\, 740 17th Street\, Virginia Beach\, VA\, 23451\, United States
END:VEVENT
BEGIN:VEVENT
DTSTART;TZID=UTC:20221106T130000
DTEND;TZID=UTC:20221106T170000
DTSTAMP:20260422T095244
CREATED:20221024T145634Z
LAST-MODIFIED:20221024T145634Z
UID:5193-1667739600-1667754000@harbourpointcoa.net
SUMMARY:Football & Chili Cook-Off
DESCRIPTION:
URL:https://harbourpointcoa.net/event/football-chili-cook-off/
LOCATION:Harbour Point Pool House Area\, Harbour Point\, Virginia Beach\, VA\, 23451\, United States
END:VEVENT
BEGIN:VEVENT
DTSTART;TZID=UTC:20221102T180000
DTEND;TZID=UTC:20221102T200000
DTSTAMP:20260422T095244
CREATED:20220624T170008Z
LAST-MODIFIED:20221021T141532Z
UID:5058-1667412000-1667419200@harbourpointcoa.net
SUMMARY:Board of Directors Meeting
DESCRIPTION:
URL:https://harbourpointcoa.net/event/board-of-directors-meeting-68/
LOCATION:Virginia Beach Beach Rescue Squad Building\, 740 17th Street\, Virginia Beach\, VA\, 23451\, United States
END:VEVENT
BEGIN:VEVENT
DTSTART;TZID=UTC:20221014T173000
DTEND;TZID=UTC:20221014T193000
DTSTAMP:20260422T095244
CREATED:20221006T143705Z
LAST-MODIFIED:20221006T143705Z
UID:5162-1665768600-1665775800@harbourpointcoa.net
SUMMARY:Happy Hour!
DESCRIPTION:
URL:https://harbourpointcoa.net/event/happy-hour/
LOCATION:Harbour Point Pool House Area\, Harbour Point\, Virginia Beach\, VA\, 23451\, United States
END:VEVENT
BEGIN:VEVENT
DTSTART;TZID=UTC:20221013T180000
DTEND;TZID=UTC:20221013T200000
DTSTAMP:20260422T095244
CREATED:20221006T143933Z
LAST-MODIFIED:20221006T143933Z
UID:5166-1665684000-1665691200@harbourpointcoa.net
SUMMARY:Special Meeting
DESCRIPTION:
URL:https://harbourpointcoa.net/event/special-meeting-2/
LOCATION:VA
END:VEVENT
BEGIN:VEVENT
DTSTART;TZID=UTC:20220926T180000
DTEND;TZID=UTC:20220926T200000
DTSTAMP:20260422T095244
CREATED:20220624T165901Z
LAST-MODIFIED:20220624T165901Z
UID:5056-1664215200-1664222400@harbourpointcoa.net
SUMMARY:Board of Directors Meeting
DESCRIPTION:
URL:https://harbourpointcoa.net/event/board-of-directors-meeting-67/
LOCATION:Harbour Point Pool House Area\, Harbour Point\, Virginia Beach\, VA\, 23451\, United States
END:VEVENT
BEGIN:VEVENT
DTSTART;TZID=UTC:20220917T163000
DTEND;TZID=UTC:20220917T183000
DTSTAMP:20260422T095244
CREATED:20220914T172930Z
LAST-MODIFIED:20220914T172930Z
UID:5119-1663432200-1663439400@harbourpointcoa.net
SUMMARY:Bingo at The Pool
DESCRIPTION:
URL:https://harbourpointcoa.net/event/bingo-at-the-pool/
LOCATION:Harbour Point Pool House Area\, Harbour Point\, Virginia Beach\, VA\, 23451\, United States
END:VEVENT
BEGIN:VEVENT
DTSTART;TZID=UTC:20220822T180000
DTEND;TZID=UTC:20220822T200000
DTSTAMP:20260422T095244
CREATED:20220624T165803Z
LAST-MODIFIED:20220624T165803Z
UID:5054-1661191200-1661198400@harbourpointcoa.net
SUMMARY:Board of Directors Meeting
DESCRIPTION:
URL:https://harbourpointcoa.net/event/board-of-directors-meeting-66/
LOCATION:Harbour Point Pool House Area\, Harbour Point\, Virginia Beach\, VA\, 23451\, United States
END:VEVENT
BEGIN:VEVENT
DTSTART;TZID=UTC:20220725T180000
DTEND;TZID=UTC:20220725T200000
DTSTAMP:20260422T095244
CREATED:20220624T165709Z
LAST-MODIFIED:20220624T165709Z
UID:5052-1658772000-1658779200@harbourpointcoa.net
SUMMARY:Board of Directors Meeting
DESCRIPTION:
URL:https://harbourpointcoa.net/event/board-of-directors-meeting-65/
LOCATION:Harbour Point Pool House Area\, Harbour Point\, Virginia Beach\, VA\, 23451\, United States
END:VEVENT
BEGIN:VEVENT
DTSTART;TZID=UTC:20220627T180000
DTEND;TZID=UTC:20220627T200000
DTSTAMP:20260422T095244
CREATED:20220602T194717Z
LAST-MODIFIED:20220602T194717Z
UID:5031-1656352800-1656360000@harbourpointcoa.net
SUMMARY:Board of Directors Meeting
DESCRIPTION:
URL:https://harbourpointcoa.net/event/board-of-directors-meeting-64/
LOCATION:Harbour Point Pool House Area\, Harbour Point\, Virginia Beach\, VA\, 23451\, United States
END:VEVENT
BEGIN:VEVENT
DTSTART;TZID=UTC:20220618T110000
DTEND;TZID=UTC:20220618T133000
DTSTAMP:20260422T095244
CREATED:20220602T194837Z
LAST-MODIFIED:20220608T191019Z
UID:5033-1655550000-1655559000@harbourpointcoa.net
SUMMARY:Community Brunch
DESCRIPTION:
URL:https://harbourpointcoa.net/event/community-brunch-time-tba/
LOCATION:Harbour Point Pool House Area\, Harbour Point\, Virginia Beach\, VA\, 23451\, United States
END:VEVENT
BEGIN:VEVENT
DTSTART;TZID=UTC:20220530T093000
DTEND;TZID=UTC:20220530T110000
DTSTAMP:20260422T095244
CREATED:20220506T191555Z
LAST-MODIFIED:20220517T004103Z
UID:5006-1653903000-1653908400@harbourpointcoa.net
SUMMARY:Water Aerobics
DESCRIPTION:
URL:https://harbourpointcoa.net/event/water-aerobics-2/
LOCATION:Harbour Point Pool House Area\, Harbour Point\, Virginia Beach\, VA\, 23451\, United States
END:VEVENT
BEGIN:VEVENT
DTSTART;TZID=UTC:20220529T130000
DTEND;TZID=UTC:20220529T160000
DTSTAMP:20260422T095244
CREATED:20220506T191503Z
LAST-MODIFIED:20220506T191503Z
UID:5004-1653829200-1653840000@harbourpointcoa.net
SUMMARY:Community Cookout
DESCRIPTION:
URL:https://harbourpointcoa.net/event/community-cookout/
LOCATION:Harbour Point
END:VEVENT
END:VCALENDAR