BEGIN:VCALENDAR
VERSION:2.0
PRODID:-//Harbour Point - ECPv6.15.20//NONSGML v1.0//EN
CALSCALE:GREGORIAN
METHOD:PUBLISH
X-WR-CALNAME:Harbour Point
X-ORIGINAL-URL:https://harbourpointcoa.net
X-WR-CALDESC:Events for Harbour Point
REFRESH-INTERVAL;VALUE=DURATION:PT1H
X-Robots-Tag:noindex
X-PUBLISHED-TTL:PT1H
BEGIN:VTIMEZONE
TZID:UTC
BEGIN:STANDARD
TZOFFSETFROM:+0000
TZOFFSETTO:+0000
TZNAME:UTC
DTSTART:20190101T000000
END:STANDARD
END:VTIMEZONE
BEGIN:VEVENT
DTSTART;TZID=UTC:20221014T173000
DTEND;TZID=UTC:20221014T193000
DTSTAMP:20260422T124927
CREATED:20221006T143705Z
LAST-MODIFIED:20221006T143705Z
UID:5162-1665768600-1665775800@harbourpointcoa.net
SUMMARY:Happy Hour!
DESCRIPTION:
URL:https://harbourpointcoa.net/event/happy-hour/
LOCATION:Harbour Point Pool House Area\, Harbour Point\, Virginia Beach\, VA\, 23451\, United States
END:VEVENT
BEGIN:VEVENT
DTSTART;TZID=UTC:20221013T180000
DTEND;TZID=UTC:20221013T200000
DTSTAMP:20260422T124927
CREATED:20221006T143933Z
LAST-MODIFIED:20221006T143933Z
UID:5166-1665684000-1665691200@harbourpointcoa.net
SUMMARY:Special Meeting
DESCRIPTION:
URL:https://harbourpointcoa.net/event/special-meeting-2/
LOCATION:VA
END:VEVENT
BEGIN:VEVENT
DTSTART;TZID=UTC:20220926T180000
DTEND;TZID=UTC:20220926T200000
DTSTAMP:20260422T124927
CREATED:20220624T165901Z
LAST-MODIFIED:20220624T165901Z
UID:5056-1664215200-1664222400@harbourpointcoa.net
SUMMARY:Board of Directors Meeting
DESCRIPTION:
URL:https://harbourpointcoa.net/event/board-of-directors-meeting-67/
LOCATION:Harbour Point Pool House Area\, Harbour Point\, Virginia Beach\, VA\, 23451\, United States
END:VEVENT
BEGIN:VEVENT
DTSTART;TZID=UTC:20220917T163000
DTEND;TZID=UTC:20220917T183000
DTSTAMP:20260422T124927
CREATED:20220914T172930Z
LAST-MODIFIED:20220914T172930Z
UID:5119-1663432200-1663439400@harbourpointcoa.net
SUMMARY:Bingo at The Pool
DESCRIPTION:
URL:https://harbourpointcoa.net/event/bingo-at-the-pool/
LOCATION:Harbour Point Pool House Area\, Harbour Point\, Virginia Beach\, VA\, 23451\, United States
END:VEVENT
BEGIN:VEVENT
DTSTART;TZID=UTC:20220822T180000
DTEND;TZID=UTC:20220822T200000
DTSTAMP:20260422T124927
CREATED:20220624T165803Z
LAST-MODIFIED:20220624T165803Z
UID:5054-1661191200-1661198400@harbourpointcoa.net
SUMMARY:Board of Directors Meeting
DESCRIPTION:
URL:https://harbourpointcoa.net/event/board-of-directors-meeting-66/
LOCATION:Harbour Point Pool House Area\, Harbour Point\, Virginia Beach\, VA\, 23451\, United States
END:VEVENT
BEGIN:VEVENT
DTSTART;TZID=UTC:20220725T180000
DTEND;TZID=UTC:20220725T200000
DTSTAMP:20260422T124927
CREATED:20220624T165709Z
LAST-MODIFIED:20220624T165709Z
UID:5052-1658772000-1658779200@harbourpointcoa.net
SUMMARY:Board of Directors Meeting
DESCRIPTION:
URL:https://harbourpointcoa.net/event/board-of-directors-meeting-65/
LOCATION:Harbour Point Pool House Area\, Harbour Point\, Virginia Beach\, VA\, 23451\, United States
END:VEVENT
BEGIN:VEVENT
DTSTART;TZID=UTC:20220627T180000
DTEND;TZID=UTC:20220627T200000
DTSTAMP:20260422T124927
CREATED:20220602T194717Z
LAST-MODIFIED:20220602T194717Z
UID:5031-1656352800-1656360000@harbourpointcoa.net
SUMMARY:Board of Directors Meeting
DESCRIPTION:
URL:https://harbourpointcoa.net/event/board-of-directors-meeting-64/
LOCATION:Harbour Point Pool House Area\, Harbour Point\, Virginia Beach\, VA\, 23451\, United States
END:VEVENT
BEGIN:VEVENT
DTSTART;TZID=UTC:20220618T110000
DTEND;TZID=UTC:20220618T133000
DTSTAMP:20260422T124927
CREATED:20220602T194837Z
LAST-MODIFIED:20220608T191019Z
UID:5033-1655550000-1655559000@harbourpointcoa.net
SUMMARY:Community Brunch
DESCRIPTION:
URL:https://harbourpointcoa.net/event/community-brunch-time-tba/
LOCATION:Harbour Point Pool House Area\, Harbour Point\, Virginia Beach\, VA\, 23451\, United States
END:VEVENT
BEGIN:VEVENT
DTSTART;TZID=UTC:20220530T093000
DTEND;TZID=UTC:20220530T110000
DTSTAMP:20260422T124927
CREATED:20220506T191555Z
LAST-MODIFIED:20220517T004103Z
UID:5006-1653903000-1653908400@harbourpointcoa.net
SUMMARY:Water Aerobics
DESCRIPTION:
URL:https://harbourpointcoa.net/event/water-aerobics-2/
LOCATION:Harbour Point Pool House Area\, Harbour Point\, Virginia Beach\, VA\, 23451\, United States
END:VEVENT
BEGIN:VEVENT
DTSTART;TZID=UTC:20220529T130000
DTEND;TZID=UTC:20220529T160000
DTSTAMP:20260422T124927
CREATED:20220506T191503Z
LAST-MODIFIED:20220506T191503Z
UID:5004-1653829200-1653840000@harbourpointcoa.net
SUMMARY:Community Cookout
DESCRIPTION:
URL:https://harbourpointcoa.net/event/community-cookout/
LOCATION:Harbour Point
END:VEVENT
BEGIN:VEVENT
DTSTART;TZID=UTC:20220523T180000
DTEND;TZID=UTC:20220523T200000
DTSTAMP:20260422T124927
CREATED:20220506T191409Z
LAST-MODIFIED:20220506T191409Z
UID:5002-1653328800-1653336000@harbourpointcoa.net
SUMMARY:Board of Directors Meeting
DESCRIPTION:
URL:https://harbourpointcoa.net/event/board-of-directors-meeting-63/
LOCATION:Harbour Point Pool House Area\, Harbour Point\, Virginia Beach\, VA\, 23451\, United States
END:VEVENT
BEGIN:VEVENT
DTSTART;TZID=UTC:20220425T180000
DTEND;TZID=UTC:20220425T200000
DTSTAMP:20260422T124927
CREATED:20220408T183545Z
LAST-MODIFIED:20220408T183545Z
UID:4992-1650909600-1650916800@harbourpointcoa.net
SUMMARY:Board of Directors Meeting
DESCRIPTION:
URL:https://harbourpointcoa.net/event/board-of-directors-meeting-62/
LOCATION:VA
END:VEVENT
BEGIN:VEVENT
DTSTART;TZID=UTC:20220328T180000
DTEND;TZID=UTC:20220328T200000
DTSTAMP:20260422T124927
CREATED:20220310T155340Z
LAST-MODIFIED:20220310T155340Z
UID:4967-1648490400-1648497600@harbourpointcoa.net
SUMMARY:Board of Directors Meeting
DESCRIPTION:
URL:https://harbourpointcoa.net/event/board-of-directors-meeting-61/
LOCATION:Virginia Beach Beach Rescue Squad Building\, 740 17th Street\, Virginia Beach\, VA\, 23451\, United States
END:VEVENT
BEGIN:VEVENT
DTSTART;TZID=UTC:20220228T180000
DTEND;TZID=UTC:20220228T200000
DTSTAMP:20260422T124927
CREATED:20220208T185207Z
LAST-MODIFIED:20220208T185207Z
UID:4945-1646071200-1646078400@harbourpointcoa.net
SUMMARY:Board of Directors Meeting
DESCRIPTION:
URL:https://harbourpointcoa.net/event/board-of-directors-meeting-60/
LOCATION:VA
END:VEVENT
BEGIN:VEVENT
DTSTART;TZID=UTC:20220124T180000
DTEND;TZID=UTC:20220124T200000
DTSTAMP:20260422T124927
CREATED:20220113T150135Z
LAST-MODIFIED:20220124T105456Z
UID:4918-1643047200-1643054400@harbourpointcoa.net
SUMMARY:Board of Directors Meeting
DESCRIPTION:
URL:https://harbourpointcoa.net/event/board-of-directors-meeting-59/
LOCATION:VA
END:VEVENT
BEGIN:VEVENT
DTSTART;TZID=UTC:20211129T180000
DTEND;TZID=UTC:20211129T200000
DTSTAMP:20260422T124927
CREATED:20211103T154715Z
LAST-MODIFIED:20211103T154715Z
UID:4855-1638208800-1638216000@harbourpointcoa.net
SUMMARY:Board of Directors Meeting
DESCRIPTION:
URL:https://harbourpointcoa.net/event/board-of-directors-meeting-58/
LOCATION:Harbour Point Pool House Area\, Harbour Point\, Virginia Beach\, VA\, 23451\, United States
END:VEVENT
BEGIN:VEVENT
DTSTART;TZID=UTC:20211025T180000
DTEND;TZID=UTC:20211025T200000
DTSTAMP:20260422T124927
CREATED:20211020T141724Z
LAST-MODIFIED:20211020T141724Z
UID:4808-1635184800-1635192000@harbourpointcoa.net
SUMMARY:Board of Directors Meeting
DESCRIPTION:
URL:https://harbourpointcoa.net/event/board-of-directors-meeting-57/
LOCATION:Harbour Point Pool House Area\, Harbour Point\, Virginia Beach\, VA\, 23451\, United States
END:VEVENT
BEGIN:VEVENT
DTSTART;TZID=UTC:20211004T180000
DTEND;TZID=UTC:20211004T200000
DTSTAMP:20260422T124927
CREATED:20210925T152010Z
LAST-MODIFIED:20210925T152010Z
UID:4739-1633370400-1633377600@harbourpointcoa.net
SUMMARY:Annual Meeting - Part 2
DESCRIPTION:
URL:https://harbourpointcoa.net/event/annual-meeting-part-2/
LOCATION:Harbour Point Pool House Area\, Harbour Point\, Virginia Beach\, VA\, 23451\, United States
END:VEVENT
BEGIN:VEVENT
DTSTART;TZID=UTC:20210925T093000
DTEND;TZID=UTC:20210925T120000
DTSTAMP:20260422T124927
CREATED:20210917T123834Z
LAST-MODIFIED:20210917T123834Z
UID:4727-1632562200-1632571200@harbourpointcoa.net
SUMMARY:Annual Meeting
DESCRIPTION:
URL:https://harbourpointcoa.net/event/annual-meeting-3/
LOCATION:Virginia Beach Beach Rescue Squad Building\, 740 17th Street\, Virginia Beach\, VA\, 23451\, United States
END:VEVENT
BEGIN:VEVENT
DTSTART;TZID=UTC:20210830T180000
DTEND;TZID=UTC:20210830T200000
DTSTAMP:20260422T124928
CREATED:20210727T102937Z
LAST-MODIFIED:20210818T160206Z
UID:4661-1630346400-1630353600@harbourpointcoa.net
SUMMARY:Board of Directors Meeting
DESCRIPTION:
URL:https://harbourpointcoa.net/event/board-of-directors-meeting-56/
LOCATION:VA
END:VEVENT
BEGIN:VEVENT
DTSTART;TZID=UTC:20210726T180000
DTEND;TZID=UTC:20210726T200000
DTSTAMP:20260422T124928
CREATED:20210520T234814Z
LAST-MODIFIED:20210618T103846Z
UID:4582-1627322400-1627329600@harbourpointcoa.net
SUMMARY:Board of Directors Meeting
DESCRIPTION:
URL:https://harbourpointcoa.net/event/board-of-directors-meeting-55/
LOCATION:Harbour Point Pool House Area\, Harbour Point\, Virginia Beach\, VA\, 23451\, United States
END:VEVENT
BEGIN:VEVENT
DTSTART;TZID=UTC:20210717T180000
DTEND;TZID=UTC:20210717T210000
DTSTAMP:20260422T124928
CREATED:20210713T185014Z
LAST-MODIFIED:20210713T185014Z
UID:4632-1626544800-1626555600@harbourpointcoa.net
SUMMARY:Hot-Diggity-Dog Night
DESCRIPTION:At the pool; rain date Sunday\, July 18th at 6:00 PM. \nBYOB; hotdog\, chips\, and a treat will be provided. Residents – free; Guests – $5 each.
URL:https://harbourpointcoa.net/event/hot-diggity-dog-night/
LOCATION:Harbour Point Pool House Area\, Harbour Point\, Virginia Beach\, VA\, 23451\, United States
END:VEVENT
BEGIN:VEVENT
DTSTART;TZID=UTC:20210714T183000
DTEND;TZID=UTC:20210714T200000
DTSTAMP:20260422T124928
CREATED:20210713T184643Z
LAST-MODIFIED:20210713T184643Z
UID:4630-1626287400-1626292800@harbourpointcoa.net
SUMMARY:Water Aerobics
DESCRIPTION:At the pool – bring noodles and weights or water bottles.
URL:https://harbourpointcoa.net/event/water-aerobics/
LOCATION:Harbour Point Pool House Area\, Harbour Point\, Virginia Beach\, VA\, 23451\, United States
END:VEVENT
BEGIN:VEVENT
DTSTART;TZID=UTC:20210524T180000
DTEND;TZID=UTC:20210524T200000
DTSTAMP:20260422T124928
CREATED:20210423T181939Z
LAST-MODIFIED:20210423T181939Z
UID:4566-1621879200-1621886400@harbourpointcoa.net
SUMMARY:Board of Directors Meeting
DESCRIPTION:
URL:https://harbourpointcoa.net/event/board-of-directors-meeting-54/
LOCATION:VA
END:VEVENT
BEGIN:VEVENT
DTSTART;TZID=UTC:20210426T180000
DTEND;TZID=UTC:20210426T200000
DTSTAMP:20260422T124928
CREATED:20210317T150947Z
LAST-MODIFIED:20210317T150947Z
UID:4533-1619460000-1619467200@harbourpointcoa.net
SUMMARY:Board of Directors Meeting
DESCRIPTION:
URL:https://harbourpointcoa.net/event/board-of-directors-meeting-53/
LOCATION:VA
END:VEVENT
BEGIN:VEVENT
DTSTART;TZID=UTC:20210322T180000
DTEND;TZID=UTC:20210322T200000
DTSTAMP:20260422T124928
CREATED:20210226T203017Z
LAST-MODIFIED:20210226T203017Z
UID:4510-1616436000-1616443200@harbourpointcoa.net
SUMMARY:Board of Directors Meeting
DESCRIPTION:
URL:https://harbourpointcoa.net/event/board-of-directors-meeting-52/
LOCATION:VA
END:VEVENT
BEGIN:VEVENT
DTSTART;TZID=UTC:20210222T180000
DTEND;TZID=UTC:20210222T200000
DTSTAMP:20260422T124928
CREATED:20210211T223619Z
LAST-MODIFIED:20210211T223619Z
UID:4495-1614016800-1614024000@harbourpointcoa.net
SUMMARY:Board of Directors Meeting
DESCRIPTION:
URL:https://harbourpointcoa.net/event/board-of-directors-meeting-51/
LOCATION:VA
END:VEVENT
BEGIN:VEVENT
DTSTART;TZID=UTC:20210125T180000
DTEND;TZID=UTC:20210125T200000
DTSTAMP:20260422T124928
CREATED:20201202T144436Z
LAST-MODIFIED:20201202T144436Z
UID:4442-1611597600-1611604800@harbourpointcoa.net
SUMMARY:Board of Directors Meeting
DESCRIPTION:
URL:https://harbourpointcoa.net/event/board-of-directors-meeting-50/
LOCATION:VA
END:VEVENT
BEGIN:VEVENT
DTSTART;TZID=UTC:20201123T180000
DTEND;TZID=UTC:20201123T200000
DTSTAMP:20260422T124928
CREATED:20201030T185734Z
LAST-MODIFIED:20201030T185734Z
UID:4409-1606154400-1606161600@harbourpointcoa.net
SUMMARY:Board of Directors Meeting
DESCRIPTION:
URL:https://harbourpointcoa.net/event/board-of-directors-meeting-49/
LOCATION:VA
END:VEVENT
BEGIN:VEVENT
DTSTART;TZID=UTC:20201026T180000
DTEND;TZID=UTC:20201026T200000
DTSTAMP:20260422T124928
CREATED:20201007T194725Z
LAST-MODIFIED:20201007T194725Z
UID:4384-1603735200-1603742400@harbourpointcoa.net
SUMMARY:Board of Directors Meeting
DESCRIPTION:
URL:https://harbourpointcoa.net/event/board-of-directors-meeting-48/
LOCATION:VA
END:VEVENT
END:VCALENDAR